View In:
ArcGIS JavaScript
ArcGIS Online Map Viewer
ArcGIS Earth
Service Description: DEA Water Observation (daily)
Name: Inland_water/DEA_Water_Observations_landsat
Description: The RasterRendering service is a multi-tenant raster rendering provider.
Single Fused Map Cache: false
Extent:
XMin: 1.0646707153900001E7
YMin: -5728897.8440000005
XMax: 1.88790671539E7
YMax: -850567.8440000005
Spatial Reference: 102100
(3857)
Initial Extent:
XMin: 1.0646707153900001E7
YMin: -5728897.8440000005
XMax: 1.88790671539E7
YMax: -850567.8440000005
Spatial Reference: 102100
(3857)
Full Extent:
XMin: 1.0646707153900001E7
YMin: -5728897.8440000005
XMax: 1.88790671539E7
YMax: -850567.8440000005
Spatial Reference: 102100
(3857)
Time Info:
Start Time Field: datetime
End Time Field: null
Time Extent:
[1986/08/15 23:51:11 UTC, 2024/09/16 23:46:26 UTC]
Time Reference:
N/A
Pixel Size X: 30.0
Pixel Size Y: 30.0
Band Count: 1
Pixel Type: U8
RasterFunction Infos: {"rasterFunctionInfos": [
{
"name": "DEA Daily Water Observation Classes",
"description": "Digital Earth Australia's Daily Water Observations are re-mapped to 9 broad cover classes:\n- Dry\n- Terrain Shadow\n- Steep Terrain\n- Cloud Shadow\n- Cloud\n- Cloudy Steep Terrain\n- Water\n- Shaded Water\n- Cloudy Water\n\n",
"help": ""
},
{
"name": "None",
"description": "",
"help": ""
}
]}
Mensuration Capabilities: Basic
Inspection Capabilities:
Has Histograms: false
Has Colormap: false
Has Multi Dimensions : false
Rendering Rule:
Min Scale: 0
Max Scale: 0
Copyright Text: GA
Service Data Type: esriImageServiceDataTypeGeneric
Min Values: N/A
Max Values: N/A
Mean Values: N/A
Standard Deviation Values: N/A
Object ID Field: OBJECTID
Fields:
-
OBJECTID
(
type: esriFieldTypeOID, alias: OBJECTID
)
-
Shape
(
type: esriFieldTypeGeometry, alias: Shape
)
-
Name
(
type: esriFieldTypeString, alias: Name, length: 200
)
-
MinPS
(
type: esriFieldTypeDouble, alias: MinPS
)
-
MaxPS
(
type: esriFieldTypeDouble, alias: MaxPS
)
-
LowPS
(
type: esriFieldTypeDouble, alias: LowPS
)
-
HighPS
(
type: esriFieldTypeDouble, alias: HighPS
)
-
Category
(
type: esriFieldTypeInteger, alias: Category
, Coded Values:
[0: Unknown]
, [1: Primary]
, [2: Overview]
, ...6 more...
)
-
Tag
(
type: esriFieldTypeString, alias: Tag, length: 100
)
-
GroupName
(
type: esriFieldTypeString, alias: GroupName, length: 100
)
-
ProductName
(
type: esriFieldTypeString, alias: ProductName, length: 100
)
-
CenterX
(
type: esriFieldTypeDouble, alias: CenterX
)
-
CenterY
(
type: esriFieldTypeDouble, alias: CenterY
)
-
ZOrder
(
type: esriFieldTypeInteger, alias: ZOrder
)
-
title
(
type: esriFieldTypeString, alias: title, length: 100
)
-
datetime
(
type: esriFieldTypeDate, alias: datetime, length: 8
)
-
dea_dataset_maturity
(
type: esriFieldTypeString, alias: dea_dataset_maturity, length: 20
)
-
end_datetime
(
type: esriFieldTypeDate, alias: end_datetime, length: 8
)
-
start_datetime
(
type: esriFieldTypeDate, alias: start_datetime, length: 8
)
-
eo_cloud_cover
(
type: esriFieldTypeDouble, alias: eo_cloud_cover
)
-
gsd
(
type: esriFieldTypeSmallInteger, alias: gsd
)
-
instruments
(
type: esriFieldTypeString, alias: instruments, length: 50
)
-
platform
(
type: esriFieldTypeString, alias: platform, length: 50
)
-
view_sun_azimuth
(
type: esriFieldTypeDouble, alias: view_sun_azimuth
)
-
view_sun_elevation
(
type: esriFieldTypeDouble, alias: view_sun_elevation
)
-
fmask_clear
(
type: esriFieldTypeDouble, alias: fmask_clear
)
-
fmask_cloud
(
type: esriFieldTypeDouble, alias: fmask_cloud
)
-
fmask_cloud_shadow
(
type: esriFieldTypeDouble, alias: fmask_cloud_shadow
)
-
fmask_snow
(
type: esriFieldTypeDouble, alias: fmask_snow
)
-
fmask_water
(
type: esriFieldTypeDouble, alias: fmask_water
)
-
gqa_abs_iterative_mean_x
(
type: esriFieldTypeDouble, alias: gqa_abs_iterative_mean_x
)
-
gqa_abs_iterative_mean_xy
(
type: esriFieldTypeDouble, alias: gqa_abs_iterative_mean_xy
)
-
gqa_abs_iterative_mean_y
(
type: esriFieldTypeDouble, alias: gqa_abs_iterative_mean_y
)
-
gqa_abs_x
(
type: esriFieldTypeDouble, alias: gqa_abs_x
)
-
gqa_abs_xy
(
type: esriFieldTypeDouble, alias: gqa_abs_xy
)
-
gqa_abs_y
(
type: esriFieldTypeDouble, alias: gqa_abs_y
)
-
gqa_cep90
(
type: esriFieldTypeDouble, alias: gqa_cep90
)
-
gqa_iterative_mean_x
(
type: esriFieldTypeDouble, alias: gqa_iterative_mean_x
)
-
gqa_iterative_mean_xy
(
type: esriFieldTypeDouble, alias: gqa_iterative_mean_xy
)
-
gqa_iterative_mean_y
(
type: esriFieldTypeDouble, alias: gqa_iterative_mean_y
)
-
gqa_iterative_stddev_x
(
type: esriFieldTypeDouble, alias: gqa_iterative_stddev_x
)
-
gqa_iterative_stddev_xy
(
type: esriFieldTypeDouble, alias: gqa_iterative_stddev_xy
)
-
gqa_iterative_stddev_y
(
type: esriFieldTypeDouble, alias: gqa_iterative_stddev_y
)
-
gqa_mean_x
(
type: esriFieldTypeDouble, alias: gqa_mean_x
)
-
gqa_mean_xy
(
type: esriFieldTypeDouble, alias: gqa_mean_xy
)
-
gqa_mean_y
(
type: esriFieldTypeDouble, alias: gqa_mean_y
)
-
gqa_stddev_x
(
type: esriFieldTypeDouble, alias: gqa_stddev_x
)
-
gqa_stddev_xy
(
type: esriFieldTypeDouble, alias: gqa_stddev_xy
)
-
gqa_stddev_y
(
type: esriFieldTypeDouble, alias: gqa_stddev_y
)
-
landsat_collection_category
(
type: esriFieldTypeString, alias: landsat_collection_category, length: 10
)
-
landsat_collection_number
(
type: esriFieldTypeSmallInteger, alias: landsat_collection_number
)
-
landsat_landsat_product_id
(
type: esriFieldTypeString, alias: landsat_landsat_product_id, length: 100
)
-
landsat_landsat_scene_id
(
type: esriFieldTypeString, alias: landsat_landsat_scene_id, length: 50
)
-
landsat_wrs_path
(
type: esriFieldTypeSmallInteger, alias: landsat_wrs_path
)
-
landsat_wrs_row
(
type: esriFieldTypeSmallInteger, alias: landsat_wrs_row
)
-
odc_collection_number
(
type: esriFieldTypeSmallInteger, alias: odc_collection_number
)
-
odc_dataset_version
(
type: esriFieldTypeString, alias: odc_dataset_version, length: 10
)
-
odc_file_format
(
type: esriFieldTypeString, alias: odc_file_format, length: 20
)
-
odc_naming_conventions
(
type: esriFieldTypeString, alias: odc_naming_conventions, length: 20
)
-
created
(
type: esriFieldTypeDate, alias: created, length: 8
)
-
odc_producer
(
type: esriFieldTypeString, alias: odc_producer, length: 20
)
-
odc_product_family
(
type: esriFieldTypeString, alias: odc_product_family, length: 20
)
-
odc_region_code
(
type: esriFieldTypeString, alias: odc_region_code, length: 10
)
-
proj_epsg
(
type: esriFieldTypeSmallInteger, alias: proj_epsg
)
-
odc_product
(
type: esriFieldTypeString, alias: odc_product, length: 20
)
-
id
(
type: esriFieldTypeString, alias: id, length: 50
)
-
Shape_Length
(
type: esriFieldTypeDouble, alias: Shape_Length
)
-
Shape_Area
(
type: esriFieldTypeDouble, alias: Shape_Area
)
Default Mosaic Method: ByAttribute
Allowed Mosaic Methods: ByAttribute,NorthWest,Center,LockRaster,Nadir,Viewpoint,Seamline,None
SortField: datetime
SortValue: 2060/01/01
Mosaic Operator: First
Default Compression Quality: 75
Default Resampling Method: Bilinear
Max Record Count: 1000
Max Image Height: 4100
Max Image Width: 5000
Max Download Image Count: 20
Max Mosaic Image Count: 20
Allow Raster Function: true
Allow Copy: true
Allow Analysis: true
Allow Compute TiePoints: false
Supports Statistics: true
Supports Advanced Queries: true
Use StandardizedQueries: true
Raster Type Infos:
Name: Raster Dataset
Description: Supports all ArcGIS Raster Datasets
Help:
Has Raster Attribute Table: false
Edit Fields Info: null
Ownership Based AccessControl For Rasters: null
Child Resources:
Info
Statistics
Key Properties
Legend
Raster Function Infos
Supported Operations:
Export Image
Query
Identify
Measure
Compute Histograms
Compute Statistics Histograms
Get Samples
Compute Class Statistics
Query GPS Info
Find Images
Image to Map
Map to Image
Measure from Image
Image to Map Multiray
Query Boundary
Compute Pixel Location
Compute Angles
Validate
Project