{
 "currentVersion": 11.3,
 "serviceDescription": "DEA Water Observation (daily)",
 "name": "Inland_water/DEA_Water_Observations_landsat",
 "description": "The RasterRendering service is a multi-tenant raster rendering provider.",
 "extent": {
  "xmin": 1.0646707153900001E7,
  "ymin": -5728897.8440000005,
  "xmax": 1.88790671539E7,
  "ymax": -850567.8440000005,
  "spatialReference": {
   "wkid": 102100,
   "latestWkid": 3857
  }
 },
 "initialExtent": {
  "xmin": 1.0646707153900001E7,
  "ymin": -5728897.8440000005,
  "xmax": 1.88790671539E7,
  "ymax": -850567.8440000005,
  "spatialReference": {
   "wkid": 102100,
   "latestWkid": 3857
  }
 },
 "fullExtent": {
  "xmin": 1.0646707153900001E7,
  "ymin": -5728897.8440000005,
  "xmax": 1.88790671539E7,
  "ymax": -850567.8440000005,
  "spatialReference": {
   "wkid": 102100,
   "latestWkid": 3857
  }
 },
 "sortableFields": "",
 "bandCount": 1,
 "pixelType": "U8",
 "minValues": [],
 "maxValues": [],
 "meanValues": [],
 "stdvValues": [],
 "hasMultidimensions": false,
 "timeInfo": {
  "startTimeField": "datetime",
  "endTimeField": null,
  "timeExtent": [
   524533871394,
   1726530386699
  ],
  "timeReference": null
 },
 "pixelSizeX": 30,
 "pixelSizeY": 30,
 "meanPixelSize": 30,
 "datasetFormat": "AMD",
 "uncompressedSize": 44622409732,
 "blockWidth": 2048,
 "blockHeight": 256,
 "compressionType": "None",
 "bandNames": [
  "Band_1"
 ],
 "allowCopy": true,
 "allowAnalysis": true,
 "itemAccess": false,
 "inspectionCapabilities": "",
 "minPixelSize": 0,
 "maxPixelSize": 0,
 "copyrightText": "GA",
 "serviceDataType": "esriImageServiceDataTypeGeneric",
 "serviceSourceType": "esriImageServiceSourceTypeMosaicDataset",
 "objectIdField": "OBJECTID",
 "fields": [
  {
   "name": "OBJECTID",
   "type": "esriFieldTypeOID",
   "alias": "OBJECTID",
   "domain": null
  },
  {
   "name": "Shape",
   "type": "esriFieldTypeGeometry",
   "alias": "Shape",
   "domain": null
  },
  {
   "name": "Name",
   "type": "esriFieldTypeString",
   "alias": "Name",
   "domain": null,
   "length": 200
  },
  {
   "name": "MinPS",
   "type": "esriFieldTypeDouble",
   "alias": "MinPS",
   "domain": null
  },
  {
   "name": "MaxPS",
   "type": "esriFieldTypeDouble",
   "alias": "MaxPS",
   "domain": null
  },
  {
   "name": "LowPS",
   "type": "esriFieldTypeDouble",
   "alias": "LowPS",
   "domain": null
  },
  {
   "name": "HighPS",
   "type": "esriFieldTypeDouble",
   "alias": "HighPS",
   "domain": null
  },
  {
   "name": "Category",
   "type": "esriFieldTypeInteger",
   "alias": "Category",
   "domain": {
    "type": "codedValue",
    "name": "MosaicCatalogItemCategoryDomain",
    "description": "Catalog item categories.",
    "codedValues": [
     {
      "name": "Unknown",
      "code": 0
     },
     {
      "name": "Primary",
      "code": 1
     },
     {
      "name": "Overview",
      "code": 2
     },
     {
      "name": "Unprocessed Overview",
      "code": 3
     },
     {
      "name": "Partial Overview",
      "code": 4
     },
     {
      "name": "Inactive",
      "code": 5
     },
     {
      "name": "Uploaded",
      "code": 253
     },
     {
      "name": "Incomplete",
      "code": 254
     },
     {
      "name": "Custom",
      "code": 255
     }
    ],
    "mergePolicy": "esriMPTDefaultValue",
    "splitPolicy": "esriSPTDefaultValue"
   }
  },
  {
   "name": "Tag",
   "type": "esriFieldTypeString",
   "alias": "Tag",
   "domain": null,
   "length": 100
  },
  {
   "name": "GroupName",
   "type": "esriFieldTypeString",
   "alias": "GroupName",
   "domain": null,
   "length": 100
  },
  {
   "name": "ProductName",
   "type": "esriFieldTypeString",
   "alias": "ProductName",
   "domain": null,
   "length": 100
  },
  {
   "name": "CenterX",
   "type": "esriFieldTypeDouble",
   "alias": "CenterX",
   "domain": null
  },
  {
   "name": "CenterY",
   "type": "esriFieldTypeDouble",
   "alias": "CenterY",
   "domain": null
  },
  {
   "name": "ZOrder",
   "type": "esriFieldTypeInteger",
   "alias": "ZOrder",
   "domain": null
  },
  {
   "name": "title",
   "type": "esriFieldTypeString",
   "alias": "title",
   "domain": null,
   "length": 100
  },
  {
   "name": "datetime",
   "type": "esriFieldTypeDate",
   "alias": "datetime",
   "domain": null,
   "length": 8
  },
  {
   "name": "dea_dataset_maturity",
   "type": "esriFieldTypeString",
   "alias": "dea_dataset_maturity",
   "domain": null,
   "length": 20
  },
  {
   "name": "end_datetime",
   "type": "esriFieldTypeDate",
   "alias": "end_datetime",
   "domain": null,
   "length": 8
  },
  {
   "name": "start_datetime",
   "type": "esriFieldTypeDate",
   "alias": "start_datetime",
   "domain": null,
   "length": 8
  },
  {
   "name": "eo_cloud_cover",
   "type": "esriFieldTypeDouble",
   "alias": "eo_cloud_cover",
   "domain": null
  },
  {
   "name": "gsd",
   "type": "esriFieldTypeSmallInteger",
   "alias": "gsd",
   "domain": null
  },
  {
   "name": "instruments",
   "type": "esriFieldTypeString",
   "alias": "instruments",
   "domain": null,
   "length": 50
  },
  {
   "name": "platform",
   "type": "esriFieldTypeString",
   "alias": "platform",
   "domain": null,
   "length": 50
  },
  {
   "name": "view_sun_azimuth",
   "type": "esriFieldTypeDouble",
   "alias": "view_sun_azimuth",
   "domain": null
  },
  {
   "name": "view_sun_elevation",
   "type": "esriFieldTypeDouble",
   "alias": "view_sun_elevation",
   "domain": null
  },
  {
   "name": "fmask_clear",
   "type": "esriFieldTypeDouble",
   "alias": "fmask_clear",
   "domain": null
  },
  {
   "name": "fmask_cloud",
   "type": "esriFieldTypeDouble",
   "alias": "fmask_cloud",
   "domain": null
  },
  {
   "name": "fmask_cloud_shadow",
   "type": "esriFieldTypeDouble",
   "alias": "fmask_cloud_shadow",
   "domain": null
  },
  {
   "name": "fmask_snow",
   "type": "esriFieldTypeDouble",
   "alias": "fmask_snow",
   "domain": null
  },
  {
   "name": "fmask_water",
   "type": "esriFieldTypeDouble",
   "alias": "fmask_water",
   "domain": null
  },
  {
   "name": "gqa_abs_iterative_mean_x",
   "type": "esriFieldTypeDouble",
   "alias": "gqa_abs_iterative_mean_x",
   "domain": null
  },
  {
   "name": "gqa_abs_iterative_mean_xy",
   "type": "esriFieldTypeDouble",
   "alias": "gqa_abs_iterative_mean_xy",
   "domain": null
  },
  {
   "name": "gqa_abs_iterative_mean_y",
   "type": "esriFieldTypeDouble",
   "alias": "gqa_abs_iterative_mean_y",
   "domain": null
  },
  {
   "name": "gqa_abs_x",
   "type": "esriFieldTypeDouble",
   "alias": "gqa_abs_x",
   "domain": null
  },
  {
   "name": "gqa_abs_xy",
   "type": "esriFieldTypeDouble",
   "alias": "gqa_abs_xy",
   "domain": null
  },
  {
   "name": "gqa_abs_y",
   "type": "esriFieldTypeDouble",
   "alias": "gqa_abs_y",
   "domain": null
  },
  {
   "name": "gqa_cep90",
   "type": "esriFieldTypeDouble",
   "alias": "gqa_cep90",
   "domain": null
  },
  {
   "name": "gqa_iterative_mean_x",
   "type": "esriFieldTypeDouble",
   "alias": "gqa_iterative_mean_x",
   "domain": null
  },
  {
   "name": "gqa_iterative_mean_xy",
   "type": "esriFieldTypeDouble",
   "alias": "gqa_iterative_mean_xy",
   "domain": null
  },
  {
   "name": "gqa_iterative_mean_y",
   "type": "esriFieldTypeDouble",
   "alias": "gqa_iterative_mean_y",
   "domain": null
  },
  {
   "name": "gqa_iterative_stddev_x",
   "type": "esriFieldTypeDouble",
   "alias": "gqa_iterative_stddev_x",
   "domain": null
  },
  {
   "name": "gqa_iterative_stddev_xy",
   "type": "esriFieldTypeDouble",
   "alias": "gqa_iterative_stddev_xy",
   "domain": null
  },
  {
   "name": "gqa_iterative_stddev_y",
   "type": "esriFieldTypeDouble",
   "alias": "gqa_iterative_stddev_y",
   "domain": null
  },
  {
   "name": "gqa_mean_x",
   "type": "esriFieldTypeDouble",
   "alias": "gqa_mean_x",
   "domain": null
  },
  {
   "name": "gqa_mean_xy",
   "type": "esriFieldTypeDouble",
   "alias": "gqa_mean_xy",
   "domain": null
  },
  {
   "name": "gqa_mean_y",
   "type": "esriFieldTypeDouble",
   "alias": "gqa_mean_y",
   "domain": null
  },
  {
   "name": "gqa_stddev_x",
   "type": "esriFieldTypeDouble",
   "alias": "gqa_stddev_x",
   "domain": null
  },
  {
   "name": "gqa_stddev_xy",
   "type": "esriFieldTypeDouble",
   "alias": "gqa_stddev_xy",
   "domain": null
  },
  {
   "name": "gqa_stddev_y",
   "type": "esriFieldTypeDouble",
   "alias": "gqa_stddev_y",
   "domain": null
  },
  {
   "name": "landsat_collection_category",
   "type": "esriFieldTypeString",
   "alias": "landsat_collection_category",
   "domain": null,
   "length": 10
  },
  {
   "name": "landsat_collection_number",
   "type": "esriFieldTypeSmallInteger",
   "alias": "landsat_collection_number",
   "domain": null
  },
  {
   "name": "landsat_landsat_product_id",
   "type": "esriFieldTypeString",
   "alias": "landsat_landsat_product_id",
   "domain": null,
   "length": 100
  },
  {
   "name": "landsat_landsat_scene_id",
   "type": "esriFieldTypeString",
   "alias": "landsat_landsat_scene_id",
   "domain": null,
   "length": 50
  },
  {
   "name": "landsat_wrs_path",
   "type": "esriFieldTypeSmallInteger",
   "alias": "landsat_wrs_path",
   "domain": null
  },
  {
   "name": "landsat_wrs_row",
   "type": "esriFieldTypeSmallInteger",
   "alias": "landsat_wrs_row",
   "domain": null
  },
  {
   "name": "odc_collection_number",
   "type": "esriFieldTypeSmallInteger",
   "alias": "odc_collection_number",
   "domain": null
  },
  {
   "name": "odc_dataset_version",
   "type": "esriFieldTypeString",
   "alias": "odc_dataset_version",
   "domain": null,
   "length": 10
  },
  {
   "name": "odc_file_format",
   "type": "esriFieldTypeString",
   "alias": "odc_file_format",
   "domain": null,
   "length": 20
  },
  {
   "name": "odc_naming_conventions",
   "type": "esriFieldTypeString",
   "alias": "odc_naming_conventions",
   "domain": null,
   "length": 20
  },
  {
   "name": "created",
   "type": "esriFieldTypeDate",
   "alias": "created",
   "domain": null,
   "length": 8
  },
  {
   "name": "odc_producer",
   "type": "esriFieldTypeString",
   "alias": "odc_producer",
   "domain": null,
   "length": 20
  },
  {
   "name": "odc_product_family",
   "type": "esriFieldTypeString",
   "alias": "odc_product_family",
   "domain": null,
   "length": 20
  },
  {
   "name": "odc_region_code",
   "type": "esriFieldTypeString",
   "alias": "odc_region_code",
   "domain": null,
   "length": 10
  },
  {
   "name": "proj_epsg",
   "type": "esriFieldTypeSmallInteger",
   "alias": "proj_epsg",
   "domain": null
  },
  {
   "name": "odc_product",
   "type": "esriFieldTypeString",
   "alias": "odc_product",
   "domain": null,
   "length": 20
  },
  {
   "name": "id",
   "type": "esriFieldTypeString",
   "alias": "id",
   "domain": null,
   "length": 50
  },
  {
   "name": "Shape_Length",
   "type": "esriFieldTypeDouble",
   "alias": "Shape_Length",
   "domain": null
  },
  {
   "name": "Shape_Area",
   "type": "esriFieldTypeDouble",
   "alias": "Shape_Area",
   "domain": null
  }
 ],
 "capabilities": "Image,Metadata,Catalog,Mensuration",
 "defaultMosaicMethod": "ByAttribute",
 "allowedMosaicMethods": "ByAttribute,NorthWest,Center,LockRaster,Nadir,Viewpoint,Seamline,None",
 "sortField": "datetime",
 "sortValue": "2060/01/01",
 "sortAscending": true,
 "mosaicOperator": "First",
 "maxDownloadSizeLimit": 2048,
 "defaultCompressionQuality": 75,
 "defaultResamplingMethod": "Bilinear",
 "maxImageHeight": 4100,
 "maxImageWidth": 5000,
 "maxRecordCount": 1000,
 "maxDownloadImageCount": 20,
 "maxMosaicImageCount": 20,
 "allowRasterFunction": true,
 "rasterFunctionInfos": [
  {
   "name": "DEA Daily Water Observation Classes",
   "description": "Digital Earth Australia's Daily Water Observations are re-mapped to 9 broad cover classes:\n- Dry\n- Terrain Shadow\n- Steep Terrain\n- Cloud Shadow\n- Cloud\n- Cloudy Steep Terrain\n- Water\n- Shaded Water\n- Cloudy Water\n\n",
   "help": ""
  },
  {
   "name": "None",
   "description": "",
   "help": ""
  }
 ],
 "rasterTypeInfos": [
  {
   "name": "Raster Dataset",
   "description": "Supports all ArcGIS Raster Datasets",
   "help": ""
  }
 ],
 "mensurationCapabilities": "Basic",
 "hasHistograms": false,
 "hasColormap": false,
 "hasRasterAttributeTable": false,
 "minScale": 0,
 "maxScale": 0,
 "exportTilesAllowed": false,
 "supportsStatistics": true,
 "supportsAdvancedQueries": true,
 "editFieldsInfo": null,
 "ownershipBasedAccessControlForRasters": null,
 "allowComputeTiePoints": false,
 "useStandardizedQueries": true,
 "advancedQueryCapabilities": {
  "useStandardizedQueries": true,
  "supportsStatistics": true,
  "supportsOrderBy": true,
  "supportsDistinct": true,
  "supportsPagination": true
 },
 "spatialReference": {
  "wkid": 102100,
  "latestWkid": 3857
 }
}
