View In:
ArcGIS JavaScript
ArcGIS Online Map Viewer
ArcGIS Earth
Service Description: null
Name: MEG/Wind150mHubHeight_CapacityFactor
Description: The RasterRendering service is a multi-tenant raster rendering provider.
Single Fused Map Cache: false
Extent:
XMin: 111.994998809
YMin: -43.94499852898
XMax: 153.944998809
YMax: -9.994998528979998
Spatial Reference: 4326
(4326)
LatestVCSWkid(0)
Initial Extent:
XMin: 111.994998809
YMin: -43.94499852898
XMax: 153.944998809
YMax: -9.994998528979998
Spatial Reference: 4326
(4326)
LatestVCSWkid(0)
Full Extent:
XMin: 111.994998809
YMin: -43.94499852898
XMax: 153.944998809
YMax: -9.994998528979998
Spatial Reference: 4326
(4326)
LatestVCSWkid(0)
Pixel Size X: 0.05
Pixel Size Y: 0.05
Band Count: 1
Pixel Type: F32
RasterFunction Infos: {"rasterFunctionInfos": [
{
"name": "None",
"description": "Make a Raster or Raster Dataset into a Function Raster Dataset.",
"help": ""
},
{
"name": "WindCapacityFactor_Symbology_ModifiedForRFT",
"description": "Wind capacity factor symbology modified to work as raster function template (i.e. no transparency)",
"help": ""
}
]}
Mensuration Capabilities: Basic
Inspection Capabilities:
Has Histograms: false
Has Colormap: false
Has Multi Dimensions : false
Rendering Rule:
Min Scale: 0
Max Scale: 0
Copyright Text: null
Service Data Type: esriImageServiceDataTypeGeneric
Min Values: 0.057635124772787
Max Values: 0.41944253444672
Mean Values: 0.29013930408955
Standard Deviation Values: 0.028623363192441
Object ID Field:
Fields:
None
Default Mosaic Method: Center
Allowed Mosaic Methods:
SortField:
SortValue: null
Mosaic Operator: First
Default Compression Quality: 75
Default Resampling Method: Bilinear
Max Record Count: null
Max Image Height: 679
Max Image Width: 839
Max Download Image Count: null
Max Mosaic Image Count: null
Allow Raster Function: true
Allow Copy: false
Allow Analysis: true
Allow Compute TiePoints: false
Supports Statistics: false
Supports Advanced Queries: false
Use StandardizedQueries: true
Raster Type Infos:
Name: Raster Dataset
Description: Supports all ArcGIS Raster Datasets
Help:
Has Raster Attribute Table: false
Edit Fields Info: null
Ownership Based AccessControl For Rasters: null
Child Resources:
Info
Statistics
Key Properties
Legend
Raster Function Infos
Supported Operations:
Export Image
Identify
Compute Histograms
Compute Statistics Histograms
Get Samples
Compute Class Statistics
Query Boundary
Compute Pixel Location
Compute Angles
Validate
Project