View In:
ArcGIS JavaScript
ArcGIS Online Map Viewer
ArcGIS Earth
Service Description: null
Name: Land_and_vegetation/Total_Area_Land_Forest_Indigenous_Estate
Description: The RasterRendering service is a multi-tenant raster rendering provider.
Single Fused Map Cache: false
Extent:
XMin: -1888000.0
YMin: -4847000.0
XMax: 2122000.0
YMax: -1010000.0
Spatial Reference: 0
(0)
LatestVCSWkid(0)
Initial Extent:
XMin: -1888000.0
YMin: -4847000.0
XMax: 2122000.0
YMax: -1010000.0
Spatial Reference: 0
(0)
LatestVCSWkid(0)
Full Extent:
XMin: -1888000.0
YMin: -4847000.0
XMax: 2122000.0
YMax: -1010000.0
Spatial Reference: 0
(0)
LatestVCSWkid(0)
Pixel Size X: 100.0
Pixel Size Y: 100.0
Band Count: 1
Pixel Type: S16
RasterFunction Infos: {"rasterFunctionInfos": [{
"name": "None",
"description": "",
"help": ""
}]}
Mensuration Capabilities: Basic
Inspection Capabilities:
Has Histograms: true
Has Colormap: false
Has Multi Dimensions : false
Rendering Rule:
Min Scale: 0
Max Scale: 0
Copyright Text: © Commonwealth of Australia (Department of Agriculture, Fisheries and Forestry) 2024
Service Data Type: esriImageServiceDataTypeThematic
Min Values: 1
Max Values: 970
Mean Values: 208.76346466733
Standard Deviation Values: 213.40589432984
Object ID Field:
Fields:
None
Default Mosaic Method: Center
Allowed Mosaic Methods:
SortField:
SortValue: null
Mosaic Operator: First
Default Compression Quality: 75
Default Resampling Method: Nearest
Max Record Count: null
Max Image Height: 38370
Max Image Width: 40100
Max Download Image Count: null
Max Mosaic Image Count: null
Allow Raster Function: true
Allow Copy: true
Allow Analysis: true
Allow Compute TiePoints: false
Supports Statistics: false
Supports Advanced Queries: false
Use StandardizedQueries: true
Raster Type Infos:
Name: Raster Dataset
Description: Supports all ArcGIS Raster Datasets
Help:
Has Raster Attribute Table: true
Edit Fields Info: null
Ownership Based AccessControl For Rasters: null
Child Resources:
Info
Raster Attribute Table
Histograms
Statistics
Key Properties
Legend
Raster Function Infos
Supported Operations:
Export Image
Identify
Compute Histograms
Compute Statistics Histograms
Get Samples
Compute Class Statistics
Query Boundary
Compute Pixel Location
Compute Angles
Validate
Project