View In:
ArcGIS JavaScript
ArcGIS Online Map Viewer
ArcGIS Earth
Service Description: null
Name: Land_and_vegetation/Fires_Forest_2016_21_Burn_Frequency
Description: The RasterRendering service is a multi-tenant raster rendering provider.
Single Fused Map Cache: false
Extent:
XMin: 1.094220244432432E7
YMin: -6198836.957391325
XMax: 1.8141302444324322E7
YMax: -205236.95739132538
Spatial Reference: 102100
(3857)
LatestVCSWkid(0)
Initial Extent:
XMin: 1.094220244432432E7
YMin: -6198836.957391325
XMax: 1.8141302444324322E7
YMax: -205236.95739132538
Spatial Reference: 102100
(3857)
LatestVCSWkid(0)
Full Extent:
XMin: 1.094220244432432E7
YMin: -6198836.957391325
XMax: 1.8141302444324322E7
YMax: -205236.95739132538
Spatial Reference: 102100
(3857)
LatestVCSWkid(0)
Pixel Size X: 100.00000000000003
Pixel Size Y: 100.0
Band Count: 1
Pixel Type: S8
RasterFunction Infos: {"rasterFunctionInfos": [{
"name": "None",
"description": "",
"help": ""
}]}
Mensuration Capabilities: Basic
Inspection Capabilities:
Has Histograms: true
Has Colormap: false
Has Multi Dimensions : false
Rendering Rule:
Min Scale: 0
Max Scale: 0
Copyright Text: © Commonwealth of Australia (Department of Agriculture, Fisheries and Forestry) 2024
Service Data Type: esriImageServiceDataTypeThematic
Min Values: 0
Max Values: 5
Mean Values: 0.52092159242584
Standard Deviation Values: 0.91758978338514
Object ID Field:
Fields:
None
Default Mosaic Method: Center
Allowed Mosaic Methods:
SortField:
SortValue: null
Mosaic Operator: First
Default Compression Quality: 75
Default Resampling Method: Nearest
Max Record Count: null
Max Image Height: 59936
Max Image Width: 71991
Max Download Image Count: null
Max Mosaic Image Count: null
Allow Raster Function: true
Allow Copy: true
Allow Analysis: true
Allow Compute TiePoints: false
Supports Statistics: false
Supports Advanced Queries: false
Use StandardizedQueries: true
Raster Type Infos:
Name: Raster Dataset
Description: Supports all ArcGIS Raster Datasets
Help:
Has Raster Attribute Table: true
Edit Fields Info: null
Ownership Based AccessControl For Rasters: null
Child Resources:
Info
Raster Attribute Table
Histograms
Statistics
Key Properties
Legend
Raster Function Infos
Supported Operations:
Export Image
Identify
Compute Histograms
Compute Statistics Histograms
Get Samples
Compute Class Statistics
Query Boundary
Compute Pixel Location
Compute Angles
Validate
Project