View In:
ArcGIS JavaScript
ArcGIS Online Map Viewer
ArcGIS Earth
Service Description: null
Name: Dea_Test/Fire_So_tst
Description: The RasterRendering service is a multi-tenant raster rendering provider.
Single Fused Map Cache: false
Extent:
XMin: -2556383.372792729
YMin: -5046828.57524927
XMax: 2862126.8108544853
YMax: -856229.0880575029
Spatial Reference: 0
(0)
LatestVCSWkid(0)
Initial Extent:
XMin: -2556383.372792729
YMin: -5046828.57524927
XMax: 2862126.8108544853
YMax: -856229.0880575029
Spatial Reference: 0
(0)
LatestVCSWkid(0)
Full Extent:
XMin: -2556383.372792729
YMin: -5046828.57524927
XMax: 2862126.8108544853
YMax: -856229.0880575029
Spatial Reference: 0
(0)
LatestVCSWkid(0)
Pixel Size X: 135.13505208986246
Pixel Size Y: 109.42941603843234
Band Count: 1
Pixel Type: U8
RasterFunction Infos: {"rasterFunctionInfos": [{
"name": "None",
"description": "",
"help": ""
}]}
Mensuration Capabilities: Basic
Inspection Capabilities:
Has Histograms: true
Has Colormap: false
Has Multi Dimensions : false
Rendering Rule:
Min Scale: 0
Max Scale: 0
Copyright Text: null
Service Data Type: esriImageServiceDataTypeGeneric
Min Values: 0
Max Values: 6
Mean Values: 0.092916652571161
Standard Deviation Values: 0.43978943732384
Object ID Field:
Fields:
None
Default Mosaic Method: Center
Allowed Mosaic Methods:
SortField:
SortValue: null
Mosaic Operator: First
Default Compression Quality: 75
Default Resampling Method: Nearest
Max Record Count: null
Max Image Height: 38295
Max Image Width: 40097
Max Download Image Count: null
Max Mosaic Image Count: null
Allow Raster Function: true
Allow Copy: false
Allow Analysis: true
Allow Compute TiePoints: false
Supports Statistics: false
Supports Advanced Queries: false
Use StandardizedQueries: true
Raster Type Infos:
Name: Raster Dataset
Description: Supports all ArcGIS Raster Datasets
Help:
Has Raster Attribute Table: true
Edit Fields Info: null
Ownership Based AccessControl For Rasters: null
Child Resources:
Info
Raster Attribute Table
Histograms
Statistics
Key Properties
Legend
Raster Function Infos
Supported Operations:
Export Image
Identify
Compute Histograms
Compute Statistics Histograms
Get Samples
Compute Class Statistics
Query Boundary
Compute Pixel Location
Compute Angles
Validate
Project