View In:
ArcGIS JavaScript
ArcGIS Online Map Viewer
ArcGIS Earth
Service Description: null
Name: Bathymetry/monitoring_priority_areas
Description: The RasterRendering service is a multi-tenant raster rendering provider.
Single Fused Map Cache: false
Extent:
XMin: 145.7045500000267
YMin: -41.17594999999027
XMax: 148.66735000005485
YMax: -37.90414999995915
Spatial Reference: 4326
(4326)
LatestVCSWkid(0)
Initial Extent:
XMin: 145.7045500000267
YMin: -41.17594999999027
XMax: 148.66735000005485
YMax: -37.90414999995915
Spatial Reference: 4326
(4326)
LatestVCSWkid(0)
Full Extent:
XMin: 145.7045500000267
YMin: -41.17594999999027
XMax: 148.66735000005485
YMax: -37.90414999995915
Spatial Reference: 4326
(4326)
LatestVCSWkid(0)
Pixel Size X: 3.0000000000285067E-4
Pixel Size Y: 3.0000000000285354E-4
Band Count: 1
Pixel Type: F32
RasterFunction Infos: {"rasterFunctionInfos": [{
"name": "None",
"description": "",
"help": ""
}]}
Mensuration Capabilities: Basic
Inspection Capabilities:
Has Histograms: true
Has Colormap: false
Has Multi Dimensions : false
Rendering Rule:
Min Scale: 0
Max Scale: 0
Copyright Text: null
Service Data Type: esriImageServiceDataTypeGeneric
Min Values: 0
Max Values: 1
Mean Values: 0.57405970072111
Standard Deviation Values: 0.13469774137542
Object ID Field:
Fields:
None
Default Mosaic Method: Center
Allowed Mosaic Methods:
SortField:
SortValue: null
Mosaic Operator: First
Default Compression Quality: 75
Default Resampling Method: Bilinear
Max Record Count: null
Max Image Height: 10906
Max Image Width: 9876
Max Download Image Count: null
Max Mosaic Image Count: null
Allow Raster Function: true
Allow Copy: false
Allow Analysis: true
Allow Compute TiePoints: false
Supports Statistics: false
Supports Advanced Queries: false
Use StandardizedQueries: true
Raster Type Infos:
Name: Raster Dataset
Description: Supports all ArcGIS Raster Datasets
Help:
Has Raster Attribute Table: false
Edit Fields Info: null
Ownership Based AccessControl For Rasters: null
Child Resources:
Info
Histograms
Statistics
Key Properties
Legend
Raster Function Infos
Supported Operations:
Export Image
Identify
Compute Histograms
Compute Statistics Histograms
Get Samples
Compute Class Statistics
Query Boundary
Compute Pixel Location
Compute Angles
Validate
Project