View In:
ArcGIS JavaScript
ArcGIS Online Map Viewer
ArcGIS Earth
Service Description: null
Name: Bathymetry/ORCA_Bathymetry_100
Description: The RasterRendering service is a multi-tenant raster rendering provider.
Single Fused Map Cache: false
Extent:
XMin: 143973.71569142566
YMin: 5342372.818024608
XMax: 766917.4133308763
YMax: 5905073.607073063
Spatial Reference: 7855
(7855)
LatestVCSWkid(0)
Initial Extent:
XMin: 143973.71569142566
YMin: 5342372.818024608
XMax: 766917.4133308763
YMax: 5905073.607073063
Spatial Reference: 7855
(7855)
LatestVCSWkid(0)
Full Extent:
XMin: 143973.71569142566
YMin: 5342372.818024608
XMax: 766917.4133308763
YMax: 5905073.607073063
Spatial Reference: 7855
(7855)
LatestVCSWkid(0)
Pixel Size X: 100.07127672922903
Pixel Size Y: 100.07127672922901
Band Count: 1
Pixel Type: U8
RasterFunction Infos: {"rasterFunctionInfos": [{
"name": "None",
"description": "",
"help": ""
}]}
Mensuration Capabilities: Basic
Inspection Capabilities:
Has Histograms: true
Has Colormap: false
Has Multi Dimensions : false
Rendering Rule:
Min Scale: 0
Max Scale: 0
Copyright Text: null
Service Data Type: esriImageServiceDataTypeGeneric
Min Values: 1
Max Values: 255
Mean Values: 205.24389916458827
Standard Deviation Values: 81.82579701218121
Object ID Field:
Fields:
None
Default Mosaic Method: Center
Allowed Mosaic Methods:
SortField:
SortValue: null
Mosaic Operator: First
Default Compression Quality: 75
Default Resampling Method: Bilinear
Max Record Count: null
Max Image Height: 5623
Max Image Width: 6225
Max Download Image Count: null
Max Mosaic Image Count: null
Allow Raster Function: true
Allow Copy: true
Allow Analysis: true
Allow Compute TiePoints: false
Supports Statistics: false
Supports Advanced Queries: false
Use StandardizedQueries: true
Raster Type Infos:
Name: Raster Dataset
Description: Supports all ArcGIS Raster Datasets
Help:
Has Raster Attribute Table: false
Edit Fields Info: null
Ownership Based AccessControl For Rasters: null
Child Resources:
Info
Histograms
Statistics
Key Properties
Legend
Raster Function Infos
Supported Operations:
Export Image
Query
Identify
Measure
Compute Histograms
Compute Statistics Histograms
Get Samples
Compute Class Statistics
Query GPS Info
Find Images
Image to Map
Map to Image
Measure from Image
Image to Map Multiray
Query Boundary
Compute Pixel Location
Compute Angles
Validate
Project