View In:
ArcGIS JavaScript
ArcGIS Online Map Viewer
ArcGIS Earth
Service Description: null
Name: Bathymetry/BassStrait_habitat_5class_global_stdev
Description: The RasterRendering service is a multi-tenant raster rendering provider.
Single Fused Map Cache: false
Extent:
XMin: 142.9943500000009
YMin: -42.01024999999821
XMax: 150.00355000006758
YMax: -36.99334999995049
Spatial Reference: 4326
(4326)
LatestVCSWkid(0)
Initial Extent:
XMin: 142.9943500000009
YMin: -42.01024999999821
XMax: 150.00355000006758
YMax: -36.99334999995049
Spatial Reference: 4326
(4326)
LatestVCSWkid(0)
Full Extent:
XMin: 142.9943500000009
YMin: -42.01024999999821
XMax: 150.00355000006758
YMax: -36.99334999995049
Spatial Reference: 4326
(4326)
LatestVCSWkid(0)
Pixel Size X: 3.0000000000285354E-4
Pixel Size Y: 3.0000000000285354E-4
Band Count: 1
Pixel Type: F32
RasterFunction Infos: {"rasterFunctionInfos": [{
"name": "None",
"description": "",
"help": ""
}]}
Mensuration Capabilities: Basic
Inspection Capabilities:
Has Histograms: false
Has Colormap: false
Has Multi Dimensions : false
Rendering Rule:
Min Scale: 0
Max Scale: 0
Copyright Text: null
Service Data Type: esriImageServiceDataTypeGeneric
Min Values: 0
Max Values: 1
Mean Values: 0.11966188265408283
Standard Deviation Values: 0.07254939815873987
Object ID Field:
Fields:
None
Default Mosaic Method: Center
Allowed Mosaic Methods:
SortField:
SortValue: null
Mosaic Operator: First
Default Compression Quality: 75
Default Resampling Method: Bilinear
Max Record Count: null
Max Image Height: 16723
Max Image Width: 23364
Max Download Image Count: null
Max Mosaic Image Count: null
Allow Raster Function: true
Allow Copy: false
Allow Analysis: true
Allow Compute TiePoints: false
Supports Statistics: false
Supports Advanced Queries: false
Use StandardizedQueries: true
Raster Type Infos:
Name: Raster Dataset
Description: Supports all ArcGIS Raster Datasets
Help:
Has Raster Attribute Table: false
Edit Fields Info: null
Ownership Based AccessControl For Rasters: null
Child Resources:
Info
Statistics
Key Properties
Legend
Raster Function Infos
Supported Operations:
Export Image
Identify
Compute Histograms
Compute Statistics Histograms
Get Samples
Compute Class Statistics
Query Boundary
Compute Pixel Location
Compute Angles
Validate
Project