View In:
ArcGIS JavaScript
ArcGIS Online Map Viewer
ArcGIS Earth
Service Description: null
Name: Bathymetry/BS_30m_TID
Description: The RasterRendering service is a multi-tenant raster rendering provider.
Single Fused Map Cache: false
Extent:
XMin: 142.997638888874
YMin: -42.000080184436996
XMax: 150.000333517342
YMax: -36.999612612365
Spatial Reference: 4326
(4326)
LatestVCSWkid(0)
Initial Extent:
XMin: 142.997638888874
YMin: -42.000080184436996
XMax: 150.000333517342
YMax: -36.999612612365
Spatial Reference: 4326
(4326)
LatestVCSWkid(0)
Full Extent:
XMin: 142.997638888874
YMin: -42.000080184436996
XMax: 150.000333517342
YMax: -36.999612612365
Spatial Reference: 4326
(4326)
LatestVCSWkid(0)
Pixel Size X: 3.0000405399999966E-4
Pixel Size Y: 3.000040539999998E-4
Band Count: 1
Pixel Type: F32
RasterFunction Infos: {"rasterFunctionInfos": [
{
"name": "BS_30m_TID",
"description": "BS_30m_TID",
"help": ""
},
{
"name": "None",
"description": "Make a Raster or Raster Dataset into a Function Raster Dataset.",
"help": ""
}
]}
Mensuration Capabilities: Basic
Inspection Capabilities:
Has Histograms: true
Has Colormap: false
Has Multi Dimensions : false
Rendering Rule:
Min Scale: 0
Max Scale: 0
Copyright Text: null
Service Data Type: esriImageServiceDataTypeGeneric
Min Values: 0
Max Values: 70
Mean Values: 35.11388853969939
Standard Deviation Values: 33.52432504901345
Object ID Field:
Fields:
None
Default Mosaic Method: Center
Allowed Mosaic Methods:
SortField:
SortValue: null
Mosaic Operator: First
Default Compression Quality: 75
Default Resampling Method: Bilinear
Max Record Count: null
Max Image Height: 16668
Max Image Width: 23342
Max Download Image Count: null
Max Mosaic Image Count: null
Allow Raster Function: true
Allow Copy: false
Allow Analysis: true
Allow Compute TiePoints: false
Supports Statistics: false
Supports Advanced Queries: false
Use StandardizedQueries: true
Raster Type Infos:
Name: Raster Dataset
Description: Supports all ArcGIS Raster Datasets
Help:
Has Raster Attribute Table: false
Edit Fields Info: null
Ownership Based AccessControl For Rasters: null
Child Resources:
Info
Histograms
Statistics
Key Properties
Legend
Raster Function Infos
Supported Operations:
Export Image
Identify
Compute Histograms
Compute Statistics Histograms
Get Samples
Compute Class Statistics
Query Boundary
Compute Pixel Location
Compute Angles
Validate
Project