View In:
ArcGIS JavaScript
ArcGIS Online Map Viewer
ArcGIS Earth
Service Description: DEA_Surface_Reflectance_Landsat_least_cloudy
Name: Baseline_satellite_data/DEA_Surface_Reflectance_Landsat_least_cloudy
Description: The RasterRendering service is a multi-tenant raster rendering provider.
Single Fused Map Cache: false
Extent:
XMin: 7821592.028900001
YMin: -7759926.634599999
XMax: 1.89132520289E7
YMax: -851916.6345999986
Spatial Reference: 102100
(3857)
Initial Extent:
XMin: 7821592.028900001
YMin: -7759926.634599999
XMax: 1.89132520289E7
YMax: -851916.6345999986
Spatial Reference: 102100
(3857)
Full Extent:
XMin: 7821592.028900001
YMin: -7759926.634599999
XMax: 1.89132520289E7
YMax: -851916.6345999986
Spatial Reference: 102100
(3857)
Time Info:
Start Time Field: AcquisitionDate
End Time Field: AcquisitionDate_end
Time Extent:
[1986/08/15 23:51:11 UTC, 2024/06/05 02:09:55 UTC]
Time Reference:
N/A
Pixel Size X: 30.0
Pixel Size Y: 30.0
Band Count: 7
Pixel Type: S16
RasterFunction Infos: {"rasterFunctionInfos": [
{
"name": "Natural Color with DRA",
"description": "Natural Color bands red, green, blue (4, 3, 2) displayed with dynamic range adjustment applied.",
"help": ""
},
{
"name": "Agriculture with DRA",
"description": "Bands shortwave IR-1, near-IR, blue (6, 5, 2) with dynamic range adjustment applied. Vigorous veg. is bright green, stressed veg. dull green and bare areas as brown.",
"help": ""
},
{
"name": "Bathymetric with DRA",
"description": "Bands red, green, coastal/aerosol (4, 3, 1) with dynamic range adjustment applied .Useful in bathymetric mapping applications.",
"help": ""
},
{
"name": "Color Infrared with DRA",
"description": "Bands near-IR, red, green (5, 4, 3) with dynamic range adjustment applied. Healthy vegetation is bright red while stressed vegetation is dull red.",
"help": ""
},
{
"name": "Geology with DRA",
"description": "The band combination (7,6,2) enables easier visualization and extraction of delineation of major structural features like thrust faults and folds, textural characteristics of igneous and sedimentary rocks, and for lithological and geological mapping like recognizing hydrothermal altered rocks, etc. Additionally, various band combinations like 4,3,2 ; 7,6,5; 7,5,2; 7,4,2 etc. can also be used to determine specific geological features.",
"help": ""
},
{
"name": "MNDWI Colorized",
"description": "Modified Normalized Difference Water Index with color map computed as (b3 - b6) / (b3 + b6). Wetlands and moist areas are blues, and dry areas in deep yellow and brown.",
"help": ""
},
{
"name": "NDMI Colorized",
"description": "Normalized Difference Moisture Index with color map computed as (b5 - b6) / (b5 + b6). Wetlands and moist areas range from light green to dark blue.",
"help": ""
},
{
"name": "NDVI Colorized",
"description": "Normalized difference vegetation index (NDVI) computed as (b5 - b4) / (b5 + b4) with color map. Dark green is thick vigorous vegetation and brown represents sparse vegetation.",
"help": ""
},
{
"name": "None",
"description": "",
"help": ""
}
]}
Mensuration Capabilities: Basic,Base-Top Height,Base-Top Shadow Height,Top-Top Shadow Height,3D
Inspection Capabilities:
Has Histograms: false
Has Colormap: false
Has Multi Dimensions : false
Rendering Rule:
Min Scale: 0
Max Scale: 0
Copyright Text: GA
Service Data Type: esriImageServiceDataTypeGeneric
Min Values: N/A
Max Values: N/A
Mean Values: N/A
Standard Deviation Values: N/A
Object ID Field: OBJECTID
Fields:
-
OBJECTID
(
type: esriFieldTypeOID, alias: OBJECTID
)
-
Shape
(
type: esriFieldTypeGeometry, alias: Shape
)
-
Name
(
type: esriFieldTypeString, alias: Name, length: 200
)
-
Category
(
type: esriFieldTypeInteger, alias: Category
, Coded Values:
[0: Unknown]
, [1: Primary]
, [2: Overview]
, ...6 more...
)
-
GroupName
(
type: esriFieldTypeString, alias: GroupName, length: 100
)
-
ProductName
(
type: esriFieldTypeString, alias: ProductName, length: 100
)
-
AcquisitionDate
(
type: esriFieldTypeDate, alias: AcquisitionDate, length: 8
)
-
ProductID
(
type: esriFieldTypeString, alias: ProductID, length: 180
)
-
ProductURL
(
type: esriFieldTypeString, alias: ProductURL, length: 300
)
-
Constellation
(
type: esriFieldTypeString, alias: Constellation, length: 180
)
-
SRS
(
type: esriFieldTypeString, alias: SRS, length: 6
)
-
NumDate
(
type: esriFieldTypeInteger, alias: NumDate
)
-
Tile_BB_Values
(
type: esriFieldTypeString, alias: Tile_BB_Values, length: 80
)
-
RasterProxy_BB_Values
(
type: esriFieldTypeString, alias: RasterProxy_BB_Values, length: 80
)
-
MRF
(
type: esriFieldTypeString, alias: MRF, length: 5000
)
-
Best
(
type: esriFieldTypeInteger, alias: Best
)
-
cloudcover
(
type: esriFieldTypeDouble, alias: cloudcover
)
-
sunazimuth
(
type: esriFieldTypeInteger, alias: sunazimuth
)
-
sunelevation
(
type: esriFieldTypeInteger, alias: sunelevation
)
-
sensorname
(
type: esriFieldTypeString, alias: sensorname, length: 255
)
-
Dataset_ID
(
type: esriFieldTypeString, alias: Dataset_ID, length: 255
)
-
landsat_scene_id
(
type: esriFieldTypeString, alias: landsat_scene_id, length: 255
)
-
wrs_path
(
type: esriFieldTypeString, alias: wrs_path, length: 255
)
-
wrs_row
(
type: esriFieldTypeString, alias: wrs_row, length: 255
)
-
pr
(
type: esriFieldTypeString, alias: pr, length: 255
)
-
month
(
type: esriFieldTypeInteger, alias: month
)
-
year
(
type: esriFieldTypeInteger, alias: year
)
-
dayofyear
(
type: esriFieldTypeInteger, alias: dayofyear
)
-
ColRow
(
type: esriFieldTypeString, alias: ColRow, length: 255
)
-
product_id_l1
(
type: esriFieldTypeString, alias: product_id_l1, length: 255
)
-
AcquisitionDate_end
(
type: esriFieldTypeDate, alias: AcquisitionDate_end, length: 8
)
Default Mosaic Method: ByAttribute
Allowed Mosaic Methods: ByAttribute
SortField: cloudcover
SortValue: 0
Mosaic Operator: First
Default Compression Quality: 75
Default Resampling Method: Bilinear
Max Record Count: 2000
Max Image Height: 4100
Max Image Width: 5000
Max Download Image Count: 50
Max Mosaic Image Count: 50
Allow Raster Function: true
Allow Copy: true
Allow Analysis: true
Allow Compute TiePoints: false
Supports Statistics: true
Supports Advanced Queries: true
Use StandardizedQueries: true
Raster Type Infos:
Name: Raster Dataset
Description: Supports all ArcGIS Raster Datasets
Help:
Has Raster Attribute Table: false
Edit Fields Info: null
Ownership Based AccessControl For Rasters: null
Child Resources:
Info
Statistics
Key Properties
Legend
Raster Function Infos
Supported Operations:
Export Image
Query
Identify
Measure
Compute Histograms
Compute Statistics Histograms
Get Samples
Compute Class Statistics
Query GPS Info
Find Images
Image to Map
Map to Image
Measure from Image
Image to Map Multiray
Query Boundary
Compute Pixel Location
Compute Angles
Validate
Project