View In:
ArcGIS JavaScript
ArcGIS Online Map Viewer
ArcGIS Earth
Service Description: Dynamic image service for the DEA derivative landcover product (level 4). This derived product is a yearly summary of the land use for each year from 1988 to 2020.
Name: Land_and_vegetation/DEA_landcover_landsat
Description: Dynamic image service for the DEA derivative landcover product (level 4). This derived product is a yearly summary of the land use for each year from 1988 to 2020.
Single Fused Map Cache: false
Extent:
XMin: 1.25236124236E7
YMin: -5517552.7333
XMax: 1.72209124236E7
YMax: -1111552.7333000004
Spatial Reference: 102100
(3857)
LatestVCSWkid(0)
Initial Extent:
XMin: 1.25236124236E7
YMin: -5517552.7333
XMax: 1.72209124236E7
YMax: -1111552.7333000004
Spatial Reference: 102100
(3857)
LatestVCSWkid(0)
Full Extent:
XMin: 1.25236124236E7
YMin: -5517552.7333
XMax: 1.72209124236E7
YMax: -1111552.7333000004
Spatial Reference: 102100
(3857)
LatestVCSWkid(0)
Time Info:
Start Time Field: datetime
End Time Field: null
Time Extent:
[1988/01/01 00:00:00 UTC, 2020/01/01 00:00:00 UTC]
Time Reference:
N/A
Pixel Size X: 25.0
Pixel Size Y: 25.0
Band Count: 3
Pixel Type: U8
RasterFunction Infos: {"rasterFunctionInfos": [{
"name": "None",
"description": "Make a Raster or Raster Dataset into a Function Raster Dataset.",
"help": ""
}]}
Mensuration Capabilities: Basic
Inspection Capabilities:
Has Histograms: false
Has Colormap: false
Has Multi Dimensions : false
Rendering Rule:
Min Scale: 0
Max Scale: 0
Copyright Text: null
Service Data Type: esriImageServiceDataTypeRGB
Min Values: N/A
Max Values: N/A
Mean Values: N/A
Standard Deviation Values: N/A
Object ID Field: OBJECTID
Fields:
-
OBJECTID
(
type: esriFieldTypeOID, alias: OBJECTID
)
-
Shape
(
type: esriFieldTypeGeometry, alias: Shape
)
-
Name
(
type: esriFieldTypeString, alias: Name, length: 200
)
-
MinPS
(
type: esriFieldTypeDouble, alias: MinPS
)
-
MaxPS
(
type: esriFieldTypeDouble, alias: MaxPS
)
-
LowPS
(
type: esriFieldTypeDouble, alias: LowPS
)
-
HighPS
(
type: esriFieldTypeDouble, alias: HighPS
)
-
Category
(
type: esriFieldTypeInteger, alias: Category
, Coded Values:
[0: Unknown]
, [1: Primary]
, [2: Overview]
, ...6 more...
)
-
Tag
(
type: esriFieldTypeString, alias: Tag, length: 100
)
-
GroupName
(
type: esriFieldTypeString, alias: GroupName, length: 100
)
-
ProductName
(
type: esriFieldTypeString, alias: ProductName, length: 100
)
-
CenterX
(
type: esriFieldTypeDouble, alias: CenterX
)
-
CenterY
(
type: esriFieldTypeDouble, alias: CenterY
)
-
ZOrder
(
type: esriFieldTypeInteger, alias: ZOrder
)
-
label
(
type: esriFieldTypeString, alias: label, length: 100
)
-
id
(
type: esriFieldTypeString, alias: id, length: 50
)
-
datetime
(
type: esriFieldTypeDate, alias: datetime, length: 8
)
-
eo_instruments
(
type: esriFieldTypeString, alias: eo_instruments, length: 50
)
-
eo_platform
(
type: esriFieldTypeString, alias: eo_platform, length: 100
)
-
odc_dataset_version
(
type: esriFieldTypeString, alias: odc_dataset_version, length: 10
)
-
odc_file_format
(
type: esriFieldTypeString, alias: odc_file_format, length: 20
)
-
odc_processing_datetime
(
type: esriFieldTypeDate, alias: odc_processing_datetime, length: 8
)
-
odc_producer
(
type: esriFieldTypeString, alias: odc_producer, length: 20
)
-
odc_product
(
type: esriFieldTypeString, alias: odc_product, length: 50
)
-
odc_product_family
(
type: esriFieldTypeString, alias: odc_product_family, length: 20
)
-
odc_region_code
(
type: esriFieldTypeString, alias: odc_region_code, length: 10
)
-
epsg
(
type: esriFieldTypeSmallInteger, alias: epsg
)
-
SHAPE_
(
type: esriFieldTypeInteger, alias: SHAPE@
)
-
Shape_Length
(
type: esriFieldTypeDouble, alias: Shape_Length
)
-
Shape_Area
(
type: esriFieldTypeDouble, alias: Shape_Area
)
Default Mosaic Method: ByAttribute
Allowed Mosaic Methods: ByAttribute,NorthWest,Center,LockRaster,Nadir,Viewpoint,Seamline,None
SortField: datetime
SortValue: 2060/01/01
Mosaic Operator: First
Default Compression Quality: 75
Default Resampling Method: Nearest
Max Record Count: 1000
Max Image Height: 5000
Max Image Width: 5000
Max Download Image Count: 20
Max Mosaic Image Count: 20
Allow Raster Function: true
Allow Copy: true
Allow Analysis: true
Allow Compute TiePoints: false
Supports Statistics: true
Supports Advanced Queries: true
Use StandardizedQueries: true
Raster Type Infos:
Name: Raster Dataset
Description: Supports all ArcGIS Raster Datasets
Help:
Has Raster Attribute Table: false
Edit Fields Info: null
Ownership Based AccessControl For Rasters: null
Child Resources:
Info
Statistics
Key Properties
Legend
Raster Function Infos
Supported Operations:
Export Image
Query
Identify
Measure
Compute Histograms
Compute Statistics Histograms
Get Samples
Compute Class Statistics
Query GPS Info
Find Images
Image to Map
Map to Image
Measure from Image
Image to Map Multiray
Query Boundary
Compute Pixel Location
Compute Angles
Validate
Project