{
 "currentVersion": 11.3,
 "serviceDescription": "DEA Land Cover is the observed physical cover on the Earth's surface. It provides a consistent, Australia-wide representation of land cover, supporting a better understanding of \n how different parts of the environment change and interact. Using Earth observation data collected over time, the product identifies different land cover types at specific points and tracks how \n they evolve over time. For more information, see (https://knowledge.dea.ga.gov.au/data/product/dea-land-cover-landsat/)",
 "name": "Land_and_vegetation/DEA_Landcover_Landsat_Level4",
 "description": "DEA Land Cover is the observed physical cover on the Earth's surface. It provides a consistent, Australia-wide representation of land cover, supporting a better understanding of \n how different parts of the environment change and interact. Using Earth observation data collected over time, the product identifies different land cover types at specific points and tracks how \n they evolve over time. For more information, see (https://knowledge.dea.ga.gov.au/data/product/dea-land-cover-landsat/)",
 "extent": {
  "xmin": 1.25060062568E7,
  "ymin": -5518382.408300001,
  "xmax": 1.72628062568E7,
  "ymax": -1051532.4083000012,
  "spatialReference": {
   "wkid": 102100,
   "latestWkid": 3857
  }
 },
 "initialExtent": {
  "xmin": 1.25060062568E7,
  "ymin": -5518382.408300001,
  "xmax": 1.72628062568E7,
  "ymax": -1051532.4083000012,
  "spatialReference": {
   "wkid": 102100,
   "latestWkid": 3857
  }
 },
 "fullExtent": {
  "xmin": 1.25060062568E7,
  "ymin": -5518382.408300001,
  "xmax": 1.72628062568E7,
  "ymax": -1051532.4083000012,
  "spatialReference": {
   "wkid": 102100,
   "latestWkid": 3857
  }
 },
 "sortableFields": "",
 "bandCount": 1,
 "pixelType": "U8",
 "minValues": [],
 "maxValues": [],
 "meanValues": [],
 "stdvValues": [],
 "hasMultidimensions": false,
 "timeInfo": {
  "startTimeField": "datetime",
  "endTimeField": null,
  "timeExtent": [
   567993600000,
   1704067200000
  ],
  "timeReference": null
 },
 "pixelSizeX": 30,
 "pixelSizeY": 30,
 "meanPixelSize": 30,
 "datasetFormat": "AMD",
 "uncompressedSize": 23608791200,
 "blockWidth": 2048,
 "blockHeight": 256,
 "compressionType": "None",
 "bandNames": [
  "Band_1"
 ],
 "allowCopy": true,
 "allowAnalysis": true,
 "itemAccess": false,
 "inspectionCapabilities": "",
 "minPixelSize": 0,
 "maxPixelSize": 0,
 "copyrightText": "GA",
 "serviceDataType": "esriImageServiceDataTypeThematic",
 "serviceSourceType": "esriImageServiceSourceTypeMosaicDataset",
 "objectIdField": "OBJECTID",
 "fields": [
  {
   "name": "OBJECTID",
   "type": "esriFieldTypeOID",
   "alias": "OBJECTID",
   "domain": null
  },
  {
   "name": "Shape",
   "type": "esriFieldTypeGeometry",
   "alias": "Shape",
   "domain": null
  },
  {
   "name": "Name",
   "type": "esriFieldTypeString",
   "alias": "Name",
   "domain": null,
   "length": 200
  },
  {
   "name": "MinPS",
   "type": "esriFieldTypeDouble",
   "alias": "MinPS",
   "domain": null
  },
  {
   "name": "MaxPS",
   "type": "esriFieldTypeDouble",
   "alias": "MaxPS",
   "domain": null
  },
  {
   "name": "LowPS",
   "type": "esriFieldTypeDouble",
   "alias": "LowPS",
   "domain": null
  },
  {
   "name": "HighPS",
   "type": "esriFieldTypeDouble",
   "alias": "HighPS",
   "domain": null
  },
  {
   "name": "Category",
   "type": "esriFieldTypeInteger",
   "alias": "Category",
   "domain": {
    "type": "codedValue",
    "name": "MosaicCatalogItemCategoryDomain",
    "description": "Catalog item categories.",
    "codedValues": [
     {
      "name": "Unknown",
      "code": 0
     },
     {
      "name": "Primary",
      "code": 1
     },
     {
      "name": "Overview",
      "code": 2
     },
     {
      "name": "Unprocessed Overview",
      "code": 3
     },
     {
      "name": "Partial Overview",
      "code": 4
     },
     {
      "name": "Inactive",
      "code": 5
     },
     {
      "name": "Uploaded",
      "code": 253
     },
     {
      "name": "Incomplete",
      "code": 254
     },
     {
      "name": "Custom",
      "code": 255
     }
    ],
    "mergePolicy": "esriMPTDefaultValue",
    "splitPolicy": "esriSPTDefaultValue"
   }
  },
  {
   "name": "Tag",
   "type": "esriFieldTypeString",
   "alias": "Tag",
   "domain": null,
   "length": 100
  },
  {
   "name": "GroupName",
   "type": "esriFieldTypeString",
   "alias": "GroupName",
   "domain": null,
   "length": 100
  },
  {
   "name": "ProductName",
   "type": "esriFieldTypeString",
   "alias": "ProductName",
   "domain": null,
   "length": 100
  },
  {
   "name": "ZOrder",
   "type": "esriFieldTypeInteger",
   "alias": "ZOrder",
   "domain": null
  },
  {
   "name": "label",
   "type": "esriFieldTypeString",
   "alias": "label",
   "domain": null,
   "length": 100
  },
  {
   "name": "id",
   "type": "esriFieldTypeString",
   "alias": "id",
   "domain": null,
   "length": 50
  },
  {
   "name": "datetime",
   "type": "esriFieldTypeDate",
   "alias": "datetime",
   "domain": null,
   "length": 8
  },
  {
   "name": "eo_instruments",
   "type": "esriFieldTypeString",
   "alias": "eo_instruments",
   "domain": null,
   "length": 50
  },
  {
   "name": "eo_platform",
   "type": "esriFieldTypeString",
   "alias": "eo_platform",
   "domain": null,
   "length": 100
  },
  {
   "name": "odc_dataset_version",
   "type": "esriFieldTypeString",
   "alias": "odc_dataset_version",
   "domain": null,
   "length": 10
  },
  {
   "name": "odc_file_format",
   "type": "esriFieldTypeString",
   "alias": "odc_file_format",
   "domain": null,
   "length": 20
  },
  {
   "name": "odc_processing_datetime",
   "type": "esriFieldTypeDate",
   "alias": "odc_processing_datetime",
   "domain": null,
   "length": 8
  },
  {
   "name": "odc_producer",
   "type": "esriFieldTypeString",
   "alias": "odc_producer",
   "domain": null,
   "length": 20
  },
  {
   "name": "odc_product",
   "type": "esriFieldTypeString",
   "alias": "odc_product",
   "domain": null,
   "length": 50
  },
  {
   "name": "odc_product_family",
   "type": "esriFieldTypeString",
   "alias": "odc_product_family",
   "domain": null,
   "length": 20
  },
  {
   "name": "odc_region_code",
   "type": "esriFieldTypeString",
   "alias": "odc_region_code",
   "domain": null,
   "length": 10
  },
  {
   "name": "epsg",
   "type": "esriFieldTypeSmallInteger",
   "alias": "epsg",
   "domain": null
  }
 ],
 "capabilities": "Image,Metadata,Catalog,Mensuration",
 "defaultMosaicMethod": "ByAttribute",
 "allowedMosaicMethods": "ByAttribute,Center,NorthWest,Nadir,Viewpoint,LockRaster,Seamline,None",
 "sortField": "datetime",
 "sortValue": "2060/01/01",
 "sortAscending": true,
 "mosaicOperator": "First",
 "maxDownloadSizeLimit": 2048,
 "defaultCompressionQuality": 85,
 "defaultResamplingMethod": "Nearest",
 "maxImageHeight": 5000,
 "maxImageWidth": 5000,
 "maxRecordCount": 2000,
 "maxDownloadImageCount": 20,
 "maxMosaicImageCount": 100,
 "allowRasterFunction": true,
 "rasterFunctionInfos": [
  {
   "name": "DEA Landcover (level4)",
   "description": "DEA Landcover (level4) \nLifeform (NTV, NAV and CTV; 2 classes)\n\nLifeform represents the dominant vegetation type of a primarily vegetated area, discriminating woody from non-woody (herbaceous) vegetation. The Woody Cover Fraction models woody as vegetation of at least 2m in height and at least 20 % canopy cover. Hence the dominant vegetation in areas designated as woody in this product is considered to be composed of shrubs and trees. However where woody vegetation is not dominant in an area, the cover will be essentially herbaceous or bare. Hence some areas containing sparse trees or shrubs will likely be represented as herbaceous.\n\nVegetation Cover (NTV, NAV and CTV; 5 classes)\n\nVegetation cover is defined using the statistics of annual fractional cover of PV (for a calendar year). This relates to the upper-most foliage as observed from the Landsat satellite sensor, and describes the percentage of an area that is vegetated rather than bare.\n\nWater Seasonality (NAV; 2 classes)\n\nWater seasonality refers to the typical hydrological conditions in NAV within a year and is relevant to both coastal and inland wetlands. The current implementation utilises the Water Observations from Space (WOfS) dataset, identifying hydro-periods for NAV areas where water is (semi-) permanent (over 3 months) or temporary or seasonal (under 3 months).\n\nWater State (Water; 1 class)\n\nWater state establishes whether water is present in liquid form or as snow or ice. The current product only identifies areas where water is present as liquid for at least 20 % of observations (based on WOfS).\n\nWater Persistence (Water; 4 classes)\n\nWater persistence (or hydro-period) describes the maximum duration (in months) that water is seen to be covering the surface in the year.\n\nIntertidal (Water; 1 class)\n\nIntertidal water refers to primarily non-vegetated aquatic areas with systematic, tidal water variations.\n\nBare Gradation (NS; 3 classes)\n\nThe bare gradation describes the percentage of bare surface in areas which contain sporadic or little persistent green vegetation through the year. The percentage reflects that much of the remaining area is brown or dead vegetation and is characteristic of the more arid parts of Australia.\n",
   "help": ""
  },
  {
   "name": "DEA Landcover (level4) high accessibility",
   "description": "DEA Landcover (level4) high accessibility\nLifeform (NTV, NAV and CTV; 2 classes)\n\nLifeform represents the dominant vegetation type of a primarily vegetated area, discriminating woody from non-woody (herbaceous) vegetation. The Woody Cover Fraction models woody as vegetation of at least 2m in height and at least 20 % canopy cover. Hence the dominant vegetation in areas designated as woody in this product is considered to be composed of shrubs and trees. However where woody vegetation is not dominant in an area, the cover will be essentially herbaceous or bare. Hence some areas containing sparse trees or shrubs will likely be represented as herbaceous.\n\nVegetation Cover (NTV, NAV and CTV; 5 classes)\n\nVegetation cover is defined using the statistics of annual fractional cover of PV (for a calendar year). This relates to the upper-most foliage as observed from the Landsat satellite sensor, and describes the percentage of an area that is vegetated rather than bare.\n\nWater Seasonality (NAV; 2 classes)\n\nWater seasonality refers to the typical hydrological conditions in NAV within a year and is relevant to both coastal and inland wetlands. The current implementation utilises the Water Observations from Space (WOfS) dataset, identifying hydro-periods for NAV areas where water is (semi-) permanent (over 3 months) or temporary or seasonal (under 3 months).\n\nWater State (Water; 1 class)\n\nWater state establishes whether water is present in liquid form or as snow or ice. The current product only identifies areas where water is present as liquid for at least 20 % of observations (based on WOfS).\n\nWater Persistence (Water; 4 classes)\n\nWater persistence (or hydro-period) describes the maximum duration (in months) that water is seen to be covering the surface in the year.\n\nIntertidal (Water; 1 class)\n\nIntertidal water refers to primarily non-vegetated aquatic areas with systematic, tidal water variations.\n\nBare Gradation (NS; 3 classes)\n\nThe bare gradation describes the percentage of bare surface in areas which contain sporadic or little persistent green vegetation through the year. The percentage reflects that much of the remaining area is brown or dead vegetation and is characteristic of the more arid parts of Australia.\n",
   "help": ""
  },
  {
   "name": "None",
   "description": "Make a Raster or Raster Dataset into a Function Raster Dataset.",
   "help": ""
  }
 ],
 "rasterTypeInfos": [
  {
   "name": "Raster Dataset",
   "description": "Supports all ArcGIS Raster Datasets",
   "help": ""
  }
 ],
 "mensurationCapabilities": "Basic,Base-Top Height,Base-Top Shadow Height,Top-Top Shadow Height,3D",
 "hasHistograms": false,
 "hasColormap": false,
 "hasRasterAttributeTable": false,
 "minScale": 0,
 "maxScale": 0,
 "exportTilesAllowed": false,
 "supportsStatistics": true,
 "supportsAdvancedQueries": true,
 "editFieldsInfo": null,
 "ownershipBasedAccessControlForRasters": null,
 "allowComputeTiePoints": false,
 "useStandardizedQueries": true,
 "advancedQueryCapabilities": {
  "useStandardizedQueries": true,
  "supportsStatistics": true,
  "supportsOrderBy": true,
  "supportsDistinct": true,
  "supportsPagination": true
 },
 "spatialReference": {
  "wkid": 102100,
  "latestWkid": 3857
 }
}
