{
 "currentVersion": 11.3,
 "serviceDescription": "Secondary: Catchment Scale Land Use is displayed in this service according to the secondary land use.",
 "name": "Land_and_vegetation/Catchment_Scale_Land_Use_Secondary",
 "description": "Secondary: Catchment Scale Land Use is displayed in this service according to the secondary land use.",
 "extent": {
  "xmin": 1.1766974192234416E7,
  "ymin": -5698187.945741013,
  "xmax": 1.7982224192234416E7,
  "ymax": -897187.9457410127,
  "spatialReference": {
   "wkid": 102100,
   "latestWkid": 3857
  }
 },
 "initialExtent": {
  "xmin": 1.1766974192234416E7,
  "ymin": -5698187.945741013,
  "xmax": 1.7982224192234416E7,
  "ymax": -897187.9457410127,
  "spatialReference": {
   "wkid": 102100,
   "latestWkid": 3857
  }
 },
 "fullExtent": {
  "xmin": 1.1766974192234416E7,
  "ymin": -5698187.945741013,
  "xmax": 1.7982224192234416E7,
  "ymax": -897187.9457410127,
  "spatialReference": {
   "wkid": 102100,
   "latestWkid": 3857
  }
 },
 "sortableFields": "",
 "bandCount": 1,
 "pixelType": "U16",
 "minValues": [
  110
 ],
 "maxValues": [
  663
 ],
 "meanValues": [
  205.93752366429
 ],
 "stdvValues": [
  106.4328229449
 ],
 "hasMultidimensions": false,
 "pixelSizeX": 50,
 "pixelSizeY": 50,
 "meanPixelSize": 50,
 "datasetFormat": "TIFF",
 "uncompressedSize": 23871532200,
 "blockWidth": 128,
 "blockHeight": 128,
 "compressionType": "LZW",
 "bandNames": [
  "Band_1"
 ],
 "allowCopy": true,
 "allowAnalysis": true,
 "itemAccess": false,
 "inspectionCapabilities": "",
 "noDataValue": 65535,
 "noDataValues": [
  65535
 ],
 "minPixelSize": 0,
 "maxPixelSize": 0,
 "copyrightText": "© Commonwealth of Australia (Department of Agriculture, Fisheries and Forestry) 2024",
 "serviceDataType": "esriImageServiceDataTypeThematic",
 "serviceSourceType": "esriImageServiceSourceTypeDataset",
 "objectIdField": "",
 "fields": [],
 "capabilities": "Image",
 "defaultMosaicMethod": "Center",
 "allowedMosaicMethods": "",
 "sortField": "",
 "sortValue": null,
 "sortAscending": true,
 "mosaicOperator": "First",
 "defaultCompressionQuality": 75,
 "defaultResamplingMethod": "Nearest",
 "maxImageHeight": 96020,
 "maxImageWidth": 124305,
 "allowRasterFunction": true,
 "rasterFunctionInfos": [
  {
   "name": "None",
   "description": "Make a Raster or Raster Dataset into a Function Raster Dataset.",
   "help": ""
  },
  {
   "name": "Land Use Secondary (SECV8)",
   "description": "This raster function applies the classification as specified from the Department of Agriculture, Fisheries and Forestry layer file. The process includes a remap of the raster's pixels and then the assignment through an attribute table.",
   "help": ""
  }
 ],
 "rasterTypeInfos": [
  {
   "name": "Raster Dataset",
   "description": "Supports all ArcGIS Raster Datasets",
   "help": ""
  }
 ],
 "mensurationCapabilities": "",
 "hasHistograms": true,
 "hasColormap": false,
 "hasRasterAttributeTable": true,
 "minScale": 0,
 "maxScale": 0,
 "exportTilesAllowed": false,
 "supportsStatistics": false,
 "supportsAdvancedQueries": false,
 "editFieldsInfo": null,
 "ownershipBasedAccessControlForRasters": null,
 "allowComputeTiePoints": false,
 "useStandardizedQueries": true,
 "advancedQueryCapabilities": {
  "useStandardizedQueries": true,
  "supportsStatistics": false,
  "supportsOrderBy": false,
  "supportsDistinct": false,
  "supportsPagination": false
 },
 "spatialReference": {
  "wkid": 102100,
  "latestWkid": 3857
 }
}
