View In:
ArcGIS JavaScript
ArcGIS Online Map Viewer
ArcGIS Earth
Service Description: null
Name: Hazard_Assessment/TCHA_RP5
Description: The RasterRendering service is a multi-tenant raster rendering provider.
Single Fused Map Cache: false
Extent:
XMin: 99.99000000000001
YMin: -35.0099999904633
XMax: 165.00993799209604
YMax: -4.990028619766235
Spatial Reference: 4326
(4326)
LatestVCSWkid(0)
Initial Extent:
XMin: 99.99000000000001
YMin: -35.0099999904633
XMax: 165.00993799209604
YMax: -4.990028619766235
Spatial Reference: 4326
(4326)
LatestVCSWkid(0)
Full Extent:
XMin: 99.99000000000001
YMin: -35.0099999904633
XMax: 165.00993799209604
YMax: -4.990028619766235
Spatial Reference: 4326
(4326)
LatestVCSWkid(0)
Pixel Size X: 0.0199999809265137
Pixel Size Y: 0.0199999809265137
Band Count: 1
Pixel Type: F32
RasterFunction Infos: {"rasterFunctionInfos": [
{
"name": "Tropical Cyclone Hazard Assessment 2018",
"description": "",
"help": ""
},
{
"name": "None",
"description": "Make a Raster or Raster Dataset into a Function Raster Dataset.",
"help": ""
}
]}
Mensuration Capabilities: Basic
Inspection Capabilities:
Has Histograms: true
Has Colormap: false
Has Multi Dimensions : false
Rendering Rule:
Min Scale: 0
Max Scale: 0
Copyright Text: null
Service Data Type: esriImageServiceDataTypeGeneric
Min Values: 0
Max Values: 153.0487823486328
Mean Values: 53.585713264373304
Standard Deviation Values: 39.062023477889745
Object ID Field:
Fields:
None
Default Mosaic Method: Center
Allowed Mosaic Methods:
SortField:
SortValue: null
Mosaic Operator: First
Default Compression Quality: 75
Default Resampling Method: Bilinear
Max Record Count: null
Max Image Height: 1501
Max Image Width: 3251
Max Download Image Count: null
Max Mosaic Image Count: null
Allow Raster Function: true
Allow Copy: true
Allow Analysis: true
Allow Compute TiePoints: false
Supports Statistics: false
Supports Advanced Queries: false
Use StandardizedQueries: true
Raster Type Infos:
Name: Raster Dataset
Description: Supports all ArcGIS Raster Datasets
Help:
Has Raster Attribute Table: false
Edit Fields Info: null
Ownership Based AccessControl For Rasters: null
Child Resources:
Info
Histograms
Statistics
Key Properties
Legend
Raster Function Infos
Supported Operations:
Export Image
Identify
Compute Histograms
Compute Statistics Histograms
Get Samples
Compute Class Statistics
Query Boundary
Compute Pixel Location
Compute Angles
Validate
Project