View In:
ArcGIS JavaScript
ArcGIS Online Map Viewer
ArcGIS Earth
Service Description: DEA Land Cover is the observed physical cover on the Earth's surface. It provides a consistent, Australia-wide representation of land cover, supporting a better understanding of how different parts of the environment change and interact. Using Earth observation data collected over time, the product identifies different land cover types at specific points and tracks how they evolve over time. For more information, see (https://knowledge.dea.ga.gov.au/data/product/dea-land-cover-landsat/)
Name: Dea_Test/DEA_Landcover_Landsat_Level3
Description: DEA Land Cover is the observed physical cover on the Earth's surface. It provides a consistent, Australia-wide representation of land cover, supporting a better understanding of how different parts of the environment change and interact. Using Earth observation data collected over time, the product identifies different land cover types at specific points and tracks how they evolve over time. For more information, see (https://knowledge.dea.ga.gov.au/data/product/dea-land-cover-landsat/)
Single Fused Map Cache: false
Extent:
XMin: 1.25060062568E7
YMin: -5518382.408300001
XMax: 1.72628062568E7
YMax: -1051532.4083000012
Spatial Reference: 102100
(3857)
LatestVCSWkid(0)
Initial Extent:
XMin: 1.25060062568E7
YMin: -5518382.408300001
XMax: 1.72628062568E7
YMax: -1051532.4083000012
Spatial Reference: 102100
(3857)
LatestVCSWkid(0)
Full Extent:
XMin: 1.25060062568E7
YMin: -5518382.408300001
XMax: 1.72628062568E7
YMax: -1051532.4083000012
Spatial Reference: 102100
(3857)
LatestVCSWkid(0)
Time Info:
Start Time Field: datetime
End Time Field: null
Time Extent:
[1988/01/01 00:00:00 UTC, 2024/01/01 00:00:00 UTC]
Time Reference:
N/A
Pixel Size X: 30.0
Pixel Size Y: 30.0
Band Count: 1
Pixel Type: U8
RasterFunction Infos: {"rasterFunctionInfos": [
{
"name": "DEA Landcover (level 3)",
"description": "All level 3 landcover categories.",
"help": ""
},
{
"name": "DEA Landcover (level 3) high accessibility",
"description": "All level 3 landcover categories with the high accessibility colour scheme applied.",
"help": ""
},
{
"name": "DEA Landcover (Level 3) high accessibility - Artificial Surface",
"description": "The Artificial Surface category from the level 3 landcover with the high accessibility colour scheme applied.",
"help": ""
},
{
"name": "DEA Landcover (Level 3) high accessibility - Cultivated Terrestrial Vegetation",
"description": "The Cultivated Terrestrial Vegetation category from the level 3 landcover with the high accessibility colour scheme applied.",
"help": ""
},
{
"name": "DEA Landcover (Level 3) high accessibility - Natural Aquatic Vegetation",
"description": "The Natural Aquatic Vegetation category from the level 3 landcover with the high accessibility colour scheme applied.",
"help": ""
},
{
"name": "DEA Landcover (Level 3) high accessibility - Natural Bare Surface",
"description": "The Natural Bare Surface category from the level 3 landcover with the high accessibility colour scheme applied.",
"help": ""
},
{
"name": "DEA Landcover (Level 3) high accessibility - Natural Terrestrial Vegetation",
"description": "The Natural Terrestrial Vegetation category from the level 3 landcover with the high accessibility colour scheme applied.",
"help": ""
},
{
"name": "DEA Landcover (Level 3) high accessibility - Water",
"description": "The Water category from the level 3 landcover with the high accessibility colour scheme applied.",
"help": ""
},
{
"name": "DEA Landcover (Level 3) - Artificial Surface",
"description": "The Artificial Surface category from the level 3 landcover.",
"help": ""
},
{
"name": "DEA Landcover (Level 3) - Cultivated Terrestrial Vegetation",
"description": "The Cultivated Terrestrial Vegetation category from the level 3 landcover.",
"help": ""
},
{
"name": "DEA Landcover (Level 3) - Natural Aquatic Vegetation",
"description": "The Natural Aquatic Vegetation category from the level 3 landcover.",
"help": ""
},
{
"name": "DEA Landcover (Level 3) - Natural Bare Surface",
"description": "The Natural Bare Surface category from the level 3 landcover.",
"help": ""
},
{
"name": "DEA Landcover (Level 3) - Natural Terrestrial Vegetation",
"description": "The Natural Terrestrial Vegetation category from the level 3 landcover.",
"help": ""
},
{
"name": "DEA Landcover (Level 3) - Water",
"description": "The Water category from the level 3 landcover.",
"help": ""
},
{
"name": "None",
"description": "Make a Raster or Raster Dataset into a Function Raster Dataset.",
"help": ""
}
]}
Mensuration Capabilities: Basic,Base-Top Height,Base-Top Shadow Height,Top-Top Shadow Height,3D
Inspection Capabilities:
Has Histograms: false
Has Colormap: false
Has Multi Dimensions : false
Rendering Rule:
Min Scale: 0
Max Scale: 0
Copyright Text: GA
Service Data Type: esriImageServiceDataTypeThematic
Min Values: N/A
Max Values: N/A
Mean Values: N/A
Standard Deviation Values: N/A
Object ID Field: OBJECTID
Fields:
-
OBJECTID
(
type: esriFieldTypeOID, alias: OBJECTID
)
-
Shape
(
type: esriFieldTypeGeometry, alias: Shape
)
-
Name
(
type: esriFieldTypeString, alias: Name, length: 200
)
-
MinPS
(
type: esriFieldTypeDouble, alias: MinPS
)
-
MaxPS
(
type: esriFieldTypeDouble, alias: MaxPS
)
-
LowPS
(
type: esriFieldTypeDouble, alias: LowPS
)
-
HighPS
(
type: esriFieldTypeDouble, alias: HighPS
)
-
Category
(
type: esriFieldTypeInteger, alias: Category
, Coded Values:
[0: Unknown]
, [1: Primary]
, [2: Overview]
, ...6 more...
)
-
Tag
(
type: esriFieldTypeString, alias: Tag, length: 100
)
-
GroupName
(
type: esriFieldTypeString, alias: GroupName, length: 100
)
-
ProductName
(
type: esriFieldTypeString, alias: ProductName, length: 100
)
-
ZOrder
(
type: esriFieldTypeInteger, alias: ZOrder
)
-
label
(
type: esriFieldTypeString, alias: label, length: 100
)
-
id
(
type: esriFieldTypeString, alias: id, length: 50
)
-
datetime
(
type: esriFieldTypeDate, alias: datetime, length: 8
)
-
eo_instruments
(
type: esriFieldTypeString, alias: eo_instruments, length: 50
)
-
eo_platform
(
type: esriFieldTypeString, alias: eo_platform, length: 100
)
-
odc_dataset_version
(
type: esriFieldTypeString, alias: odc_dataset_version, length: 10
)
-
odc_file_format
(
type: esriFieldTypeString, alias: odc_file_format, length: 20
)
-
odc_processing_datetime
(
type: esriFieldTypeDate, alias: odc_processing_datetime, length: 8
)
-
odc_producer
(
type: esriFieldTypeString, alias: odc_producer, length: 20
)
-
odc_product
(
type: esriFieldTypeString, alias: odc_product, length: 50
)
-
odc_product_family
(
type: esriFieldTypeString, alias: odc_product_family, length: 20
)
-
odc_region_code
(
type: esriFieldTypeString, alias: odc_region_code, length: 10
)
-
epsg
(
type: esriFieldTypeSmallInteger, alias: epsg
)
Default Mosaic Method: ByAttribute
Allowed Mosaic Methods: ByAttribute,Center,NorthWest,Nadir,Viewpoint,LockRaster,Seamline,None
SortField: datetime
SortValue: 2060/01/01
Mosaic Operator: First
Default Compression Quality: 85
Default Resampling Method: Nearest
Max Record Count: 2000
Max Image Height: 5000
Max Image Width: 5000
Max Download Image Count: 20
Max Mosaic Image Count: 100
Allow Raster Function: true
Allow Copy: true
Allow Analysis: true
Allow Compute TiePoints: false
Supports Statistics: true
Supports Advanced Queries: true
Use StandardizedQueries: true
Raster Type Infos:
Name: Raster Dataset
Description: Supports all ArcGIS Raster Datasets
Help:
Has Raster Attribute Table: false
Edit Fields Info: null
Ownership Based AccessControl For Rasters: null
Child Resources:
Info
Statistics
Key Properties
Legend
Raster Function Infos
Supported Operations:
Export Image
Query
Identify
Measure
Compute Histograms
Compute Statistics Histograms
Get Samples
Compute Class Statistics
Query GPS Info
Find Images
Image to Map
Map to Image
Measure from Image
Image to Map Multiray
Query Boundary
Compute Pixel Location
Compute Angles
Validate
Project
Calculate Volume