View In:
ArcGIS JavaScript
ArcGIS Online Map Viewer
ArcGIS Earth
Service Description: null
Name: Bathymetry/BassStrait_habitat_prob_v2_SESSILE_INVERTS
Description: The RasterRendering service is a multi-tenant raster rendering provider.
Single Fused Map Cache: false
Extent:
XMin: 143.00005000000095
YMin: -42.00004999999811
XMax: 149.99995000006754
YMax: -36.999949999950545
Spatial Reference: 4326
(4326)
LatestVCSWkid(0)
Initial Extent:
XMin: 143.00005000000095
YMin: -42.00004999999811
XMax: 149.99995000006754
YMax: -36.999949999950545
Spatial Reference: 4326
(4326)
LatestVCSWkid(0)
Full Extent:
XMin: 143.00005000000095
YMin: -42.00004999999811
XMax: 149.99995000006754
YMax: -36.999949999950545
Spatial Reference: 4326
(4326)
LatestVCSWkid(0)
Pixel Size X: 3.0000000000285386E-4
Pixel Size Y: 3.00000000002854E-4
Band Count: 1
Pixel Type: F32
RasterFunction Infos: {"rasterFunctionInfos": [{
"name": "None",
"description": "",
"help": ""
}]}
Mensuration Capabilities: Basic
Inspection Capabilities:
Has Histograms: false
Has Colormap: false
Has Multi Dimensions : false
Rendering Rule:
Min Scale: 0
Max Scale: 0
Copyright Text: null
Service Data Type: esriImageServiceDataTypeGeneric
Min Values: N/A
Max Values: N/A
Mean Values: N/A
Standard Deviation Values: N/A
Object ID Field:
Fields:
None
Default Mosaic Method: Center
Allowed Mosaic Methods:
SortField:
SortValue: null
Mosaic Operator: First
Default Compression Quality: 75
Default Resampling Method: Bilinear
Max Record Count: null
Max Image Height: 16667
Max Image Width: 23333
Max Download Image Count: null
Max Mosaic Image Count: null
Allow Raster Function: true
Allow Copy: false
Allow Analysis: true
Allow Compute TiePoints: false
Supports Statistics: false
Supports Advanced Queries: false
Use StandardizedQueries: true
Raster Type Infos:
Name: Raster Dataset
Description: Supports all ArcGIS Raster Datasets
Help:
Has Raster Attribute Table: false
Edit Fields Info: null
Ownership Based AccessControl For Rasters: null
Child Resources:
Info
Statistics
Key Properties
Legend
Raster Function Infos
Supported Operations:
Export Image
Identify
Compute Histograms
Compute Statistics Histograms
Get Samples
Compute Class Statistics
Query Boundary
Compute Pixel Location
Compute Angles
Validate
Project